BEGIN:VCALENDAR
VERSION:2.0
PRODID:-//XIAOYU Academy - ECPv6.5.1.4//NONSGML v1.0//EN
CALSCALE:GREGORIAN
METHOD:PUBLISH
X-WR-CALNAME:XIAOYU Academy
X-ORIGINAL-URL:https://xiaoyuacademy.com
X-WR-CALDESC:Events for XIAOYU Academy
REFRESH-INTERVAL;VALUE=DURATION:PT1H
X-Robots-Tag:noindex
X-PUBLISHED-TTL:PT1H
BEGIN:VTIMEZONE
TZID:UTC
BEGIN:STANDARD
TZOFFSETFROM:+0000
TZOFFSETTO:+0000
TZNAME:UTC
DTSTART:20230101T000000
END:STANDARD
END:VTIMEZONE
BEGIN:VEVENT
DTSTART;TZID=UTC:20230228T100000
DTEND;TZID=UTC:20230305T170000
DTSTAMP:20260420T015042
CREATED:20200428T052125Z
LAST-MODIFIED:20240626T082640Z
UID:1194-1677578400-1678035600@xiaoyuacademy.com
SUMMARY:Come & Join our friendly club. Get your best score here
DESCRIPTION:Experienced golfers. New golfers. Pro golfers. Future golfers. This is a course for everyone. It’s challenging without being intimidating. Competitive\, yet it brings out a sense of camaraderie. It’s where you can develop your game with lessons. Download the guide to discover features of both golf and social memberships\, including golfing\, dining\, activities and events. You’ll get terms\, pricing\, next steps and details. \nMembership is the opportunity to join one of the leading clubs\, with an active and friendly membership. The professional staff are on hand at all times to give lessons and to make all members feel very welcome making sure they thoroughly enjoy their game. Our extensive indoor learning center is open year-round. Learn more about the facilities at N7 Golf Club and choose one of them. Register with us to receive regular offer specials and golf promotions. Log in to view our specials online and print them to bring to the course with you.
URL:https://xiaoyuacademy.com/event/come-join-our-friendly-club-get-your-best-score-here/
LOCATION:Manhattan Club\, 350 5th Ave\, New York\, NY\, 10118\, United States
CATEGORIES:Beginner's
ATTACH;FMTTYPE=image/jpeg:https://xiaoyuacademy.com/wp-content/uploads/2020/04/event2.jpg
ORGANIZER;CN="Ashton Porter":MAILTO:info@example.com
END:VEVENT
END:VCALENDAR